BEGIN:VCALENDAR
VERSION:2.0
PRODID:-//SRC P3 - ECPv5.12.2//NONSGML v1.0//EN
CALSCALE:GREGORIAN
METHOD:PUBLISH
X-WR-CALNAME:SRC P3
X-ORIGINAL-URL:https://www.srcp3.de
X-WR-CALDESC:Veranstaltungen für SRC P3
BEGIN:VTIMEZONE
TZID:Europe/Berlin
BEGIN:DAYLIGHT
TZOFFSETFROM:+0100
TZOFFSETTO:+0200
TZNAME:CEST
DTSTART:20170326T010000
END:DAYLIGHT
BEGIN:STANDARD
TZOFFSETFROM:+0200
TZOFFSETTO:+0100
TZNAME:CET
DTSTART:20171029T010000
END:STANDARD
END:VTIMEZONE
BEGIN:VEVENT
DTSTART;TZID=Europe/Berlin:20171007T080000
DTEND;TZID=Europe/Berlin:20171007T230000
DTSTAMP:20260420T074931
CREATED:20170103T134037Z
LAST-MODIFIED:20170103T134037Z
UID:4405-1507363200-1507417200@www.srcp3.de
SUMMARY:Southern 500 - Nascar (3\,4)
DESCRIPTION:
URL:https://www.srcp3.de/event/southern-500-nascar-34-2/
LOCATION:SRC P3 Forstern\, Hauptstraße 2\, Forstern\, 85659 
CATEGORIES:Special Events
END:VEVENT
END:VCALENDAR