BEGIN:VCALENDAR
VERSION:2.0
PRODID:-//SRC P3 - ECPv5.12.2//NONSGML v1.0//EN
CALSCALE:GREGORIAN
METHOD:PUBLISH
X-WR-CALNAME:SRC P3
X-ORIGINAL-URL:https://www.srcp3.de
X-WR-CALDESC:Veranstaltungen für SRC P3
BEGIN:VTIMEZONE
TZID:Europe/Berlin
BEGIN:DAYLIGHT
TZOFFSETFROM:+0100
TZOFFSETTO:+0200
TZNAME:CEST
DTSTART:20170326T010000
END:DAYLIGHT
BEGIN:STANDARD
TZOFFSETFROM:+0200
TZOFFSETTO:+0100
TZNAME:CET
DTSTART:20171029T010000
END:STANDARD
END:VTIMEZONE
BEGIN:VEVENT
DTSTART;TZID=Europe/Berlin:20170624T080000
DTEND;TZID=Europe/Berlin:20170624T220000
DTSTAMP:20260420T140028
CREATED:20161220T161704Z
LAST-MODIFIED:20161220T161704Z
UID:4395-1498291200-1498341600@www.srcp3.de
SUMMARY:5 Liter Rennen - DSC - VRS (3)
DESCRIPTION:
URL:https://www.srcp3.de/event/5-liter-rennen-dsc-vrs-3/
LOCATION:SRC P3 Forstern\, Hauptstraße 2\, Forstern\, 85659 
CATEGORIES:Special Events
END:VEVENT
END:VCALENDAR