BEGIN:VCALENDAR
VERSION:2.0
PRODID:-//SRC P3 - ECPv5.12.2//NONSGML v1.0//EN
CALSCALE:GREGORIAN
METHOD:PUBLISH
X-WR-CALNAME:SRC P3
X-ORIGINAL-URL:https://www.srcp3.de
X-WR-CALDESC:Veranstaltungen für SRC P3
BEGIN:VTIMEZONE
TZID:Europe/Berlin
BEGIN:DAYLIGHT
TZOFFSETFROM:+0100
TZOFFSETTO:+0200
TZNAME:CEST
DTSTART:20160327T010000
END:DAYLIGHT
BEGIN:STANDARD
TZOFFSETFROM:+0200
TZOFFSETTO:+0100
TZNAME:CET
DTSTART:20161030T010000
END:STANDARD
END:VTIMEZONE
BEGIN:VEVENT
DTSTART;TZID=Europe/Berlin:20160108T180000
DTEND;TZID=Europe/Berlin:20160108T230000
DTSTAMP:20260421T192445
CREATED:20151216T161420Z
LAST-MODIFIED:20151217T164802Z
UID:2240-1452276000-1452294000@www.srcp3.de
SUMMARY:Classic Nascars (1)
DESCRIPTION:Classic Nascars (1)
URL:https://www.srcp3.de/event/classic-nascars-1/
LOCATION:SRC P3 Forstern\, Hauptstraße 2\, Forstern\, 85659 
CATEGORIES:Classic Nascar
END:VEVENT
END:VCALENDAR