BEGIN:VCALENDAR
VERSION:2.0
PRODID:-//SRC P3 - ECPv5.12.2//NONSGML v1.0//EN
CALSCALE:GREGORIAN
METHOD:PUBLISH
X-WR-CALNAME:SRC P3
X-ORIGINAL-URL:https://www.srcp3.de
X-WR-CALDESC:Veranstaltungen für SRC P3
BEGIN:VTIMEZONE
TZID:Europe/Berlin
BEGIN:DAYLIGHT
TZOFFSETFROM:+0100
TZOFFSETTO:+0200
TZNAME:CEST
DTSTART:20150329T010000
END:DAYLIGHT
BEGIN:STANDARD
TZOFFSETFROM:+0200
TZOFFSETTO:+0100
TZNAME:CET
DTSTART:20151025T010000
END:STANDARD
END:VTIMEZONE
BEGIN:VEVENT
DTSTART;TZID=Europe/Berlin:20150710T180000
DTEND;TZID=Europe/Berlin:20150710T230000
DTSTAMP:20260423T182337
CREATED:20150113T144327Z
LAST-MODIFIED:20150521T190239Z
UID:354-1436551200-1436569200@www.srcp3.de
SUMMARY:GT Masters Sprintcup (6) Finale
DESCRIPTION:
URL:https://www.srcp3.de/event/gt-masters-sprintcup-5/
LOCATION:SRC P3 Forstern\, Hauptstraße 2\, Forstern\, 85659 
CATEGORIES:GT Masters Sprintcup
END:VEVENT
END:VCALENDAR