BEGIN:VCALENDAR
VERSION:2.0
PRODID:-//SRC P3 - ECPv5.12.2//NONSGML v1.0//EN
CALSCALE:GREGORIAN
METHOD:PUBLISH
X-WR-CALNAME:SRC P3
X-ORIGINAL-URL:https://www.srcp3.de
X-WR-CALDESC:Veranstaltungen für SRC P3
BEGIN:VTIMEZONE
TZID:Europe/Berlin
BEGIN:DAYLIGHT
TZOFFSETFROM:+0100
TZOFFSETTO:+0200
TZNAME:CEST
DTSTART:20150329T010000
END:DAYLIGHT
BEGIN:STANDARD
TZOFFSETFROM:+0200
TZOFFSETTO:+0100
TZNAME:CET
DTSTART:20151025T010000
END:STANDARD
END:VTIMEZONE
BEGIN:VEVENT
DTSTART;TZID=Europe/Berlin:20150424T180000
DTEND;TZID=Europe/Berlin:20150425T200000
DTSTAMP:20260423T224248
CREATED:20150120T130127Z
LAST-MODIFIED:20150120T130228Z
UID:1804-1429898400-1429992000@www.srcp3.de
SUMMARY:GT Masters Langstrecke (1)
DESCRIPTION:
URL:https://www.srcp3.de/event/gt-masters-langstrecke-1/
LOCATION:Slotracers München\, Bügermeister-Gradl-Str. 10a\, Feldgeding\, 85232 \, Deutschland
CATEGORIES:GT Masters Langstrecke
ATTACH;FMTTYPE=image/jpeg:https://www.srcp3.de/wp-content/uploads/2015/01/GT1_Oval_1.2.jpg
END:VEVENT
END:VCALENDAR