BEGIN:VCALENDAR
VERSION:2.0
PRODID:-//SRC P3 - ECPv5.12.2//NONSGML v1.0//EN
CALSCALE:GREGORIAN
METHOD:PUBLISH
X-WR-CALNAME:SRC P3
X-ORIGINAL-URL:https://www.srcp3.de
X-WR-CALDESC:Veranstaltungen für SRC P3
BEGIN:VTIMEZONE
TZID:Europe/Berlin
BEGIN:DAYLIGHT
TZOFFSETFROM:+0100
TZOFFSETTO:+0200
TZNAME:CEST
DTSTART:20180325T010000
END:DAYLIGHT
BEGIN:STANDARD
TZOFFSETFROM:+0200
TZOFFSETTO:+0100
TZNAME:CET
DTSTART:20181028T010000
END:STANDARD
END:VTIMEZONE
BEGIN:VEVENT
DTSTART;TZID=Europe/Berlin:20180310T100000
DTEND;TZID=Europe/Berlin:20180310T160000
DTSTAMP:20260420T010553
CREATED:20180217T115757Z
LAST-MODIFIED:20180217T123148Z
UID:46611-1520676000-1520697600@www.srcp3.de
SUMMARY:Training 1000 km Forstern
DESCRIPTION:
URL:https://www.srcp3.de/event/training-1000-km-forstern/
LOCATION:SRC P3 Forstern\, Hauptstraße 2\, Forstern\, 85659 
CATEGORIES:Gruppe C Langstrecke
END:VEVENT
END:VCALENDAR